BEGIN:VCALENDAR
VERSION:2.0
PRODID:-//Weston Village Hall - ECPv6.15.11//NONSGML v1.0//EN
CALSCALE:GREGORIAN
METHOD:PUBLISH
X-WR-CALNAME:Weston Village Hall
X-ORIGINAL-URL:https://wvh.org.uk
X-WR-CALDESC:Events for Weston Village Hall
REFRESH-INTERVAL;VALUE=DURATION:PT1H
X-Robots-Tag:noindex
X-PUBLISHED-TTL:PT1H
BEGIN:VTIMEZONE
TZID:Europe/London
BEGIN:DAYLIGHT
TZOFFSETFROM:+0000
TZOFFSETTO:+0100
TZNAME:BST
DTSTART:20240331T010000
END:DAYLIGHT
BEGIN:STANDARD
TZOFFSETFROM:+0100
TZOFFSETTO:+0000
TZNAME:GMT
DTSTART:20241027T010000
END:STANDARD
BEGIN:DAYLIGHT
TZOFFSETFROM:+0000
TZOFFSETTO:+0100
TZNAME:BST
DTSTART:20250330T010000
END:DAYLIGHT
BEGIN:STANDARD
TZOFFSETFROM:+0100
TZOFFSETTO:+0000
TZNAME:GMT
DTSTART:20251026T010000
END:STANDARD
BEGIN:DAYLIGHT
TZOFFSETFROM:+0000
TZOFFSETTO:+0100
TZNAME:BST
DTSTART:20260329T010000
END:DAYLIGHT
BEGIN:STANDARD
TZOFFSETFROM:+0100
TZOFFSETTO:+0000
TZNAME:GMT
DTSTART:20261025T010000
END:STANDARD
BEGIN:DAYLIGHT
TZOFFSETFROM:+0000
TZOFFSETTO:+0100
TZNAME:BST
DTSTART:20270328T010000
END:DAYLIGHT
BEGIN:STANDARD
TZOFFSETFROM:+0100
TZOFFSETTO:+0000
TZNAME:GMT
DTSTART:20271031T010000
END:STANDARD
END:VTIMEZONE
BEGIN:VEVENT
DTSTART;TZID=Europe/London:20260625T183000
DTEND;TZID=Europe/London:20260625T190000
DTSTAMP:20260425T142911
CREATED:20260423T190054Z
LAST-MODIFIED:20260423T201338Z
UID:14805-1782412200-1782414000@wvh.org.uk
SUMMARY:Weston Village Hall AGM
DESCRIPTION:All welcome! Come along and find out about the activities\, plans and endeavours of WVH Committee \nOur efforts are focused on raising the money to provide a new roof for the Village Hall. All donations are gratefully received. We have a GoFundMe page\, or you can use QR code above\, or by cheque\, cash or bank transfer – just email treasurer@wvh.org.uk for details.
URL:https://wvh.org.uk/event/weston-village-hall-agm/
LOCATION:Weston Village Hall\, Maiden Street\, Weston\, Hertfordshire\, SG4 7AA\, United Kingdom
ATTACH;FMTTYPE=image/png:https://wvh.org.uk/wp-content/uploads/2026/03/Screenshot-2026-03-26-at-13.19.51.png
END:VEVENT
BEGIN:VEVENT
DTSTART;TZID=Europe/London:20260614T120000
DTEND;TZID=Europe/London:20260614T160000
DTSTAMP:20260425T142911
CREATED:20260423T171802Z
LAST-MODIFIED:20260423T184939Z
UID:14779-1781438400-1781452800@wvh.org.uk
SUMMARY:Weston Open Gardens & Allotments
DESCRIPTION:We are hoping to have around 10 gardens open for viewing plus the Allotments\, and there will also be a Butterflies and Bees Flower Show in the Church. The Hall will be open for tea and cakes\, and also for the toilet facilities. \nIf you’d like to make a scarecrow to enter into a competition – which we know has been popular on the Allotment open days in past years – then please do.  Tickets for visitors will be available for £5 each (children free) on the village green\, at Rosemary Cottage in Fore St\, and in the village hall. They will include a map of gardens open and need to be shown at all garden entrances.
URL:https://wvh.org.uk/event/weston-open-gardens-allotments/
LOCATION:Weston Village Hall\, Maiden Street\, Weston\, Hertfordshire\, SG4 7AA\, United Kingdom
CATEGORIES:events
ATTACH;FMTTYPE=image/webp:https://wvh.org.uk/wp-content/uploads/2026/03/garden.webp
END:VEVENT
BEGIN:VEVENT
DTSTART;TZID=Europe/London:20260613T100000
DTEND;TZID=Europe/London:20260613T113000
DTSTAMP:20260425T142911
CREATED:20260423T185449Z
LAST-MODIFIED:20260423T185449Z
UID:14797-1781344800-1781350200@wvh.org.uk
SUMMARY:Village Focus Event - Weston
DESCRIPTION:PCSO Chris Brabrook will host a drop-in session at Weston Village Hall Café to allow residents to talk to the local Police Team to raise concerns or ask for advice. \nCome along and meet Chris  10:00AM – 11:30AM\, Saturday 13 June 2026
URL:https://wvh.org.uk/event/village-focus-event-weston/
LOCATION:Weston Village Hall\, Maiden Street\, Weston\, Hertfordshire\, SG4 7AA\, United Kingdom
ATTACH;FMTTYPE=image/png:https://wvh.org.uk/wp-content/uploads/2026/04/Screenshot-2026-04-07-at-15.49.27.png
END:VEVENT
BEGIN:VEVENT
DTSTART;TZID=Europe/London:20251121T190000
DTEND;TZID=Europe/London:20251121T233000
DTSTAMP:20260425T142911
CREATED:20251015T155348Z
LAST-MODIFIED:20251112T181019Z
UID:13623-1763751600-1763767800@wvh.org.uk
SUMMARY:The Jack O'Legs Arms
DESCRIPTION:Pop-up Pub is back!\nJoin us at the Village Hall for another great evening of good beer\, lovely wine\, and even better company! This time\, we’re adding a bit of fun and friendly competition with board games and table tennis  so bring your game face (and maybe a bit of luck!).\n\n\nIt’s the perfect chance to catch up with friends\, meet new faces\, and enjoy a relaxed night out right here in the village.\n\n\n Where: Weston Village Hall\n When: From 7pm Friday 21st November\n What: Beer\, wine\, games\, laughter\, and good vibes\n\n\nSpread the word and bring a friend\, the more the merrier\n\n 
URL:https://wvh.org.uk/event/the-jack-olegs-arms/
LOCATION:Weston Village Hall\, Maiden Street\, Weston\, Hertfordshire\, SG4 7AA\, United Kingdom
CATEGORIES:events
ATTACH;FMTTYPE=image/jpeg:https://wvh.org.uk/wp-content/uploads/2025/10/Screenshot-2025-11-12-at-10.35.10.jpeg
END:VEVENT
BEGIN:VEVENT
DTSTART;TZID=Europe/London:20251017T190000
DTEND;TZID=Europe/London:20251017T233000
DTSTAMP:20260425T142911
CREATED:20251016T110322Z
LAST-MODIFIED:20251016T110328Z
UID:13919-1760727600-1760743800@wvh.org.uk
SUMMARY:Quiz Night
DESCRIPTION:
URL:https://wvh.org.uk/event/quiz-night/
LOCATION:Weston Village Hall\, Maiden Street\, Weston\, Hertfordshire\, SG4 7AA\, United Kingdom
ATTACH;FMTTYPE=image/png:https://wvh.org.uk/wp-content/uploads/2025/10/Screenshot-2025-10-16-120204.png
END:VEVENT
END:VCALENDAR